BEGIN:VCALENDAR
VERSION:2.0
PRODID:-//Klinik Öschelbronn - ECPv5.9.1//NONSGML v1.0//EN
CALSCALE:GREGORIAN
METHOD:PUBLISH
X-WR-CALNAME:Klinik Öschelbronn
X-ORIGINAL-URL:https://klinik-oeschelbronn.de
X-WR-CALDESC:Veranstaltungen für Klinik Öschelbronn
BEGIN:VTIMEZONE
TZID:Europe/Berlin
BEGIN:DAYLIGHT
TZOFFSETFROM:+0100
TZOFFSETTO:+0200
TZNAME:CEST
DTSTART:20200329T010000
END:DAYLIGHT
BEGIN:STANDARD
TZOFFSETFROM:+0200
TZOFFSETTO:+0100
TZNAME:CET
DTSTART:20201025T010000
END:STANDARD
END:VTIMEZONE
BEGIN:VEVENT
DTSTART;TZID=Europe/Berlin:20200217T200000
DTEND;TZID=Europe/Berlin:20200217T200000
DTSTAMP:20260423T155424
CREATED:20191213T082941Z
LAST-MODIFIED:20200123T100628Z
UID:852-1581969600-1581969600@klinik-oeschelbronn.de
SUMMARY:73 Jahre Leben mit der Anthroposophie - ein persönlicher Bericht
DESCRIPTION:https://klinik-oeschelbronn.de/wp-content/uploads/2019/12/Jahresprogramm-2020.pdf \n 
URL:https://klinik-oeschelbronn.de/event/73-jahre-leben-mit-der-anthroposophie-ein-persoenlicher-bericht/
LOCATION:Kliniksaal\, Zugang über Klinik Haupteingang\, Am Eichhof 40\, Niefern-Öschelbronn\, 75223\, Deutschland
CATEGORIES:Öschelbronner Gespräche
END:VEVENT
END:VCALENDAR