BEGIN:VCALENDAR
VERSION:2.0
PRODID:-//Klinik Öschelbronn - ECPv5.9.1//NONSGML v1.0//EN
CALSCALE:GREGORIAN
METHOD:PUBLISH
X-WR-CALNAME:Klinik Öschelbronn
X-ORIGINAL-URL:https://klinik-oeschelbronn.de
X-WR-CALDESC:Veranstaltungen für Klinik Öschelbronn
BEGIN:VTIMEZONE
TZID:Europe/Berlin
BEGIN:DAYLIGHT
TZOFFSETFROM:+0100
TZOFFSETTO:+0200
TZNAME:CEST
DTSTART:20200329T010000
END:DAYLIGHT
BEGIN:STANDARD
TZOFFSETFROM:+0200
TZOFFSETTO:+0100
TZNAME:CET
DTSTART:20201025T010000
END:STANDARD
END:VTIMEZONE
BEGIN:VEVENT
DTSTART;TZID=Europe/Berlin:20200122T200000
DTEND;TZID=Europe/Berlin:20200122T200000
DTSTAMP:20260423T173108
CREATED:20191213T082710Z
LAST-MODIFIED:20191217T185238Z
UID:846-1579723200-1579723200@klinik-oeschelbronn.de
SUMMARY:Die gemeinsame Entwicklung von konventioneller und Anthroposophischer Onkologie – Welcher Zukunft gehen wir entgegen?
DESCRIPTION:https://klinik-oeschelbronn.de/wp-content/uploads/2019/12/Jahresprogramm-2020.pdf \n 
URL:https://klinik-oeschelbronn.de/event/die-gemeinsame-entwicklung-von-konventioneller-und-anthroposophischer-onkologie-welcher-zukunft-gehen-wir-entgegen/
LOCATION:Kliniksaal\, Zugang über Klinik Haupteingang\, Am Eichhof 40\, Niefern-Öschelbronn\, 75223\, Deutschland
CATEGORIES:Öschelbronner Gespräche
END:VEVENT
END:VCALENDAR