BEGIN:VCALENDAR
VERSION:2.0
PRODID:-//Klinik Öschelbronn - ECPv5.9.1//NONSGML v1.0//EN
CALSCALE:GREGORIAN
METHOD:PUBLISH
X-WR-CALNAME:Klinik Öschelbronn
X-ORIGINAL-URL:https://klinik-oeschelbronn.de
X-WR-CALDESC:Veranstaltungen für Klinik Öschelbronn
BEGIN:VTIMEZONE
TZID:Europe/Berlin
BEGIN:DAYLIGHT
TZOFFSETFROM:+0100
TZOFFSETTO:+0200
TZNAME:CEST
DTSTART:20200329T010000
END:DAYLIGHT
BEGIN:STANDARD
TZOFFSETFROM:+0200
TZOFFSETTO:+0100
TZNAME:CET
DTSTART:20201025T010000
END:STANDARD
END:VTIMEZONE
BEGIN:VEVENT
DTSTART;TZID=Europe/Berlin:20201209T200000
DTEND;TZID=Europe/Berlin:20201209T200000
DTSTAMP:20260424T105537
CREATED:20191213T085857Z
LAST-MODIFIED:20200129T092425Z
UID:881-1607544000-1607544000@klinik-oeschelbronn.de
SUMMARY:Lieben heißt Wollen - Auf dem Weg zur Bewusstseinsseele
DESCRIPTION:https://klinik-oeschelbronn.de/wp-content/uploads/2019/12/Jahresprogramm-2020.pdf
URL:https://klinik-oeschelbronn.de/event/lieben-heisst-wollen-auf-dem-weg-zur-bewusstseinsseele/
LOCATION:Kliniksaal\, Zugang über Klinik Haupteingang\, Am Eichhof 40\, Niefern-Öschelbronn\, 75223\, Deutschland
CATEGORIES:Öschelbronner Gespräche
END:VEVENT
END:VCALENDAR