BEGIN:VCALENDAR
VERSION:2.0
PRODID:-//Klinik Öschelbronn - ECPv5.9.1//NONSGML v1.0//EN
CALSCALE:GREGORIAN
METHOD:PUBLISH
X-WR-CALNAME:Klinik Öschelbronn
X-ORIGINAL-URL:https://klinik-oeschelbronn.de
X-WR-CALDESC:Veranstaltungen für Klinik Öschelbronn
BEGIN:VTIMEZONE
TZID:Europe/Berlin
BEGIN:DAYLIGHT
TZOFFSETFROM:+0100
TZOFFSETTO:+0200
TZNAME:CEST
DTSTART:20210328T010000
END:DAYLIGHT
BEGIN:STANDARD
TZOFFSETFROM:+0200
TZOFFSETTO:+0100
TZNAME:CET
DTSTART:20211031T010000
END:STANDARD
END:VTIMEZONE
BEGIN:VEVENT
DTSTART;TZID=Europe/Berlin:20210829T110000
DTEND;TZID=Europe/Berlin:20210829T153000
DTSTAMP:20260422T003443
CREATED:20210815T205052Z
LAST-MODIFIED:20210815T210720Z
UID:1878-1630234800-1630251000@klinik-oeschelbronn.de
SUMMARY:Patiententag - Gemeinsam in die Zukunft
DESCRIPTION:Im August 2021 wird nach langen Jahren der Planung und Umsetzung der gelungene Neubau unseres Klinikgebäudes fertiggestellt\, der nicht nur äußerlich unser einmaliges Konzept widerspiegelt. Mittels der Gestaltung und der ausgewählten Materialien konnten wir ein ganz besonderes Ambiente im gesamten Haus erschaffen. So haben wir unter anderem helle Patientenräume mit therapie-gerichteter Farbgestaltung realisiert. Unsere Mitarbeiter*innen profitieren von durchdachten Arbeitsabläufen im Klinikalltag und uns steht eine eigene Küche mit täglich frisch zubereiteten vollwertigen Mahlzeiten aus regionaler und weitgehend biologischer Erzeugung zur Verfügung. \nWir laden Sie herzlich ein\, am Sonntag\, den 29. August 2021 ab 11.00 Uhr unseren Neubau mit uns zu feiern. \nEs wird ein abwechslungsreiches Programm geben mit Vorträgen und Gesprächsmöglichkeiten. Außerdem haben Sie die Möglichkeit\, alle Winkel unseres Neubaus von Küche\, über Cafeteria\, Patientenaufnahme\, Praxis Anthromed bis in die Stationen kennenzulernen. \nFür Ihr leibliches Wohl ist ebenfalls gesorgt. \nWir freuen uns\, wenn Sie unsere Einladung annehmen und wir Sie in unserem neuen Klinikgebäude begrüßen dürfen! \nCoronabedingt ist eine Anmeldung per Mail oder telefonisch erforderlich. \nTelefon: 07233 68-0 – E-Mail: info@klinik-oeschelbronn.de \nAuf der Veranstaltung werden ggf. Film- und Tonaufnahmen sowie Fotos gemacht\, mit deren auch späteren Verwendung Sie sich durch den Besuch der Veranstaltung  einverstanden erklären. \nProgramm Neubau-Einweihung herunterladen (PDF) \n\nVorträge\n11.00 – 11.30 Uhr\nMultimodale Schmerztherapie\n– Ganzheitliche Behandlung von chronischen Schmerzen –\nDr. med. Michael Binkert\nLeitung Schmerztherapie\nFacharzt für Anästhesiologie\, spez. Schmerztherapie \n13.30 – 14.00 Uhr\nIntegrative Onkologie\n– Gemeinsam gegen Krebs –\nDr. med. Julia Gottfried\nLeitende Ärztin\nFachärztin für Innere Medizin und Hämatologie\, internistische Onkologie\, Palliativmedizin \n14.30 – 15.00 Uhr\nWickel und Auflagen\n– mit heilsamen Tinkturen –\nSimone Wolß\nKrankenschwester \nTombola\nHauptpreise: Goldcollier und Audi Q4 inklusive 300 Freikilometern für ein Wochenende \nFührungen durch den Neubau\n– Eintritt frei – Anmeldung erforderlich –\nInformationen zum Patiententag: Tel. 07233 68-0
URL:https://klinik-oeschelbronn.de/event/patiententag-gemeinsam-in-die-zukunft/
LOCATION:Klinik Öschelbronn\, Am Eichhof 40\, Niefern-Öschelbronn\, 75223\, Deutschland
END:VEVENT
END:VCALENDAR